BEGIN:VCALENDAR
VERSION:2.0
PRODID:-//Indiana State Rifle and Pistol Association - ECPv6.15.20//NONSGML v1.0//EN
CALSCALE:GREGORIAN
METHOD:PUBLISH
X-ORIGINAL-URL:https://www.isrpa.org
X-WR-CALDESC:Events for Indiana State Rifle and Pistol Association
REFRESH-INTERVAL;VALUE=DURATION:PT1H
X-Robots-Tag:noindex
X-PUBLISHED-TTL:PT1H
BEGIN:VTIMEZONE
TZID:America/Indiana/Indianapolis
BEGIN:DAYLIGHT
TZOFFSETFROM:-0500
TZOFFSETTO:-0400
TZNAME:EDT
DTSTART:20250309T070000
END:DAYLIGHT
BEGIN:STANDARD
TZOFFSETFROM:-0400
TZOFFSETTO:-0500
TZNAME:EST
DTSTART:20251102T060000
END:STANDARD
BEGIN:DAYLIGHT
TZOFFSETFROM:-0500
TZOFFSETTO:-0400
TZNAME:EDT
DTSTART:20260308T070000
END:DAYLIGHT
BEGIN:STANDARD
TZOFFSETFROM:-0400
TZOFFSETTO:-0500
TZNAME:EST
DTSTART:20261101T060000
END:STANDARD
BEGIN:DAYLIGHT
TZOFFSETFROM:-0500
TZOFFSETTO:-0400
TZNAME:EDT
DTSTART:20270314T070000
END:DAYLIGHT
BEGIN:STANDARD
TZOFFSETFROM:-0400
TZOFFSETTO:-0500
TZNAME:EST
DTSTART:20271107T060000
END:STANDARD
END:VTIMEZONE
BEGIN:VEVENT
DTSTART;TZID=America/Indiana/Indianapolis:20260822T090000
DTEND;TZID=America/Indiana/Indianapolis:20260823T150000
DTSTAMP:20260421T150602
CREATED:20260401T013329Z
LAST-MODIFIED:20260401T013329Z
UID:10000014-1787389200-1787497200@www.isrpa.org
SUMMARY:ISRPA 80 Round RMC Saturday and Sunday
DESCRIPTION:Match details and registration are available at the link below: \nMatch Details & Registration
URL:https://www.isrpa.org/event/isrpa-80-round-rmc-saturday-and-sunday-8/
LOCATION:Camp Atterbury\, 3008 Old Hospital Road\, Edinburgh\, IN\, 46125\, United States
CATEGORIES:High Power
ATTACH;FMTTYPE=image/jpeg:https://www.isrpa.org/wp-content/uploads/2025/07/1_2024_ca_hpr_otc_mel.jpg
END:VEVENT
END:VCALENDAR