BEGIN:VCALENDAR
VERSION:2.0
PRODID:-//Indiana State Rifle and Pistol Association - ECPv6.15.20//NONSGML v1.0//EN
CALSCALE:GREGORIAN
METHOD:PUBLISH
X-ORIGINAL-URL:https://www.isrpa.org
X-WR-CALDESC:Events for Indiana State Rifle and Pistol Association
REFRESH-INTERVAL;VALUE=DURATION:PT1H
X-Robots-Tag:noindex
X-PUBLISHED-TTL:PT1H
BEGIN:VTIMEZONE
TZID:America/Indiana/Indianapolis
BEGIN:DAYLIGHT
TZOFFSETFROM:-0500
TZOFFSETTO:-0400
TZNAME:EDT
DTSTART:20250309T070000
END:DAYLIGHT
BEGIN:STANDARD
TZOFFSETFROM:-0400
TZOFFSETTO:-0500
TZNAME:EST
DTSTART:20251102T060000
END:STANDARD
BEGIN:DAYLIGHT
TZOFFSETFROM:-0500
TZOFFSETTO:-0400
TZNAME:EDT
DTSTART:20260308T070000
END:DAYLIGHT
BEGIN:STANDARD
TZOFFSETFROM:-0400
TZOFFSETTO:-0500
TZNAME:EST
DTSTART:20261101T060000
END:STANDARD
BEGIN:DAYLIGHT
TZOFFSETFROM:-0500
TZOFFSETTO:-0400
TZNAME:EDT
DTSTART:20270314T070000
END:DAYLIGHT
BEGIN:STANDARD
TZOFFSETFROM:-0400
TZOFFSETTO:-0500
TZNAME:EST
DTSTART:20271107T060000
END:STANDARD
END:VTIMEZONE
BEGIN:VEVENT
DTSTART;TZID=America/Indiana/Indianapolis:20260425T090000
DTEND;TZID=America/Indiana/Indianapolis:20260426T150000
DTSTAMP:20260421T111214
CREATED:20260401T013106Z
LAST-MODIFIED:20260401T013106Z
UID:10000011-1777107600-1777215600@www.isrpa.org
SUMMARY:ISRPA 80 Round RMC Saturday and Sunday
DESCRIPTION:Match details and registration are available at the link below: \nMatch Details & Registration
URL:https://www.isrpa.org/event/isrpa-80-round-rmc-saturday-and-sunday-5/
LOCATION:Camp Atterbury\, 3008 Old Hospital Road\, Edinburgh\, IN\, 46125\, United States
CATEGORIES:High Power
ATTACH;FMTTYPE=image/jpeg:https://www.isrpa.org/wp-content/uploads/2025/07/1_2024_ca_hpr_otc_mel.jpg
END:VEVENT
BEGIN:VEVENT
DTSTART;TZID=America/Indiana/Indianapolis:20260516T090000
DTEND;TZID=America/Indiana/Indianapolis:20260517T150000
DTSTAMP:20260421T111214
CREATED:20260401T013213Z
LAST-MODIFIED:20260401T013213Z
UID:10000012-1778922000-1779030000@www.isrpa.org
SUMMARY:ISRPA 80 Round RMC Saturday and Sunday
DESCRIPTION:Match details and registration are available at the link below: \nMatch Details & Registration
URL:https://www.isrpa.org/event/isrpa-80-round-rmc-saturday-and-sunday-6/
LOCATION:Camp Atterbury\, 3008 Old Hospital Road\, Edinburgh\, IN\, 46125\, United States
CATEGORIES:High Power
ATTACH;FMTTYPE=image/jpeg:https://www.isrpa.org/wp-content/uploads/2025/07/1_2024_ca_hpr_otc_mel.jpg
END:VEVENT
BEGIN:VEVENT
DTSTART;TZID=America/Indiana/Indianapolis:20260613T090000
DTEND;TZID=America/Indiana/Indianapolis:20260614T150000
DTSTAMP:20260421T111214
CREATED:20260401T013419Z
LAST-MODIFIED:20260401T170311Z
UID:10000015-1781341200-1781449200@www.isrpa.org
SUMMARY:ISRPA 50 Round EIC Saturday and Sunday - Squadded Practice Sat.
DESCRIPTION:Match details and registration are available at the link below: \nMatch Details & Registration
URL:https://www.isrpa.org/event/isrpa-50-round-eic-saturday-and-sunday-squadded-practice-sat-2/
LOCATION:Camp Atterbury\, 3008 Old Hospital Road\, Edinburgh\, IN\, 46125\, United States
CATEGORIES:High Power
ATTACH;FMTTYPE=image/png:https://www.isrpa.org/wp-content/uploads/2026/03/distinguished_rifleman.png
END:VEVENT
BEGIN:VEVENT
DTSTART;TZID=America/Indiana/Indianapolis:20260711T090000
DTEND;TZID=America/Indiana/Indianapolis:20260712T150000
DTSTAMP:20260421T111214
CREATED:20260401T013253Z
LAST-MODIFIED:20260401T013253Z
UID:10000013-1783760400-1783868400@www.isrpa.org
SUMMARY:ISRPA 80 Round RMC Saturday and Sunday
DESCRIPTION:Match details and registration are available at the link below: \nMatch Details & Registration
URL:https://www.isrpa.org/event/isrpa-80-round-rmc-saturday-and-sunday-7/
LOCATION:Camp Atterbury\, 3008 Old Hospital Road\, Edinburgh\, IN\, 46125\, United States
CATEGORIES:High Power
ATTACH;FMTTYPE=image/jpeg:https://www.isrpa.org/wp-content/uploads/2025/07/1_2024_ca_hpr_otc_mel.jpg
END:VEVENT
BEGIN:VEVENT
DTSTART;TZID=America/Indiana/Indianapolis:20260822T090000
DTEND;TZID=America/Indiana/Indianapolis:20260823T150000
DTSTAMP:20260421T111214
CREATED:20260401T013329Z
LAST-MODIFIED:20260401T013329Z
UID:10000014-1787389200-1787497200@www.isrpa.org
SUMMARY:ISRPA 80 Round RMC Saturday and Sunday
DESCRIPTION:Match details and registration are available at the link below: \nMatch Details & Registration
URL:https://www.isrpa.org/event/isrpa-80-round-rmc-saturday-and-sunday-8/
LOCATION:Camp Atterbury\, 3008 Old Hospital Road\, Edinburgh\, IN\, 46125\, United States
CATEGORIES:High Power
ATTACH;FMTTYPE=image/jpeg:https://www.isrpa.org/wp-content/uploads/2025/07/1_2024_ca_hpr_otc_mel.jpg
END:VEVENT
BEGIN:VEVENT
DTSTART;TZID=America/Indiana/Indianapolis:20260912T090000
DTEND;TZID=America/Indiana/Indianapolis:20260913T150000
DTSTAMP:20260421T111214
CREATED:20260401T013644Z
LAST-MODIFIED:20260401T165814Z
UID:10000016-1789203600-1789311600@www.isrpa.org
SUMMARY:ISRPA State Championship and Governor's Cup matches 80 Round RMC Saturday and Sunday
DESCRIPTION:Match details and registration are available at the link below: \nMatch Details & Registration
URL:https://www.isrpa.org/event/isrpa-state-championship-and-governors-cup-matches-80-round-rmc-saturday-and-sunday-2/
LOCATION:Camp Atterbury\, 3008 Old Hospital Road\, Edinburgh\, IN\, 46125\, United States
CATEGORIES:High Power
ATTACH;FMTTYPE=image/jpeg:https://www.isrpa.org/wp-content/uploads/2026/03/isrpa_ireland_high_power_trophy-scaled.jpg
END:VEVENT
END:VCALENDAR